BEGIN:VCALENDAR
VERSION:2.0
PRODID:-//Talento Humano - ECPv6.15.20//NONSGML v1.0//EN
CALSCALE:GREGORIAN
METHOD:PUBLISH
X-ORIGINAL-URL:https://th9111mm.com
X-WR-CALDESC:Eventos para Talento Humano
REFRESH-INTERVAL;VALUE=DURATION:PT1H
X-Robots-Tag:noindex
X-PUBLISHED-TTL:PT1H
BEGIN:VTIMEZONE
TZID:America/Costa_Rica
BEGIN:STANDARD
TZOFFSETFROM:-0600
TZOFFSETTO:-0600
TZNAME:CST
DTSTART:20220101T000000
END:STANDARD
END:VTIMEZONE
BEGIN:VEVENT
DTSTART;TZID=America/Costa_Rica:20230302T080000
DTEND;TZID=America/Costa_Rica:20230525T170000
DTSTAMP:20260422T204625
CREATED:20230220T162741Z
LAST-MODIFIED:20230220T162802Z
UID:3058-1677744000-1685034000@th9111mm.com
SUMMARY:Desarrolla y Potencializa las habilidades de liderazgo
DESCRIPTION:
URL:https://th9111mm.com/event/3058/
ATTACH;FMTTYPE=image/png:https://th9111mm.com/wp-content/uploads/2023/02/unnamed-2.png
END:VEVENT
END:VCALENDAR